BEGIN:VCALENDAR
VERSION:2.0
PRODID:-//South West Region Scouts Training - ECPv6.15.17.1//NONSGML v1.0//EN
CALSCALE:GREGORIAN
METHOD:PUBLISH
X-ORIGINAL-URL:https://swscout.training
X-WR-CALDESC:Events for South West Region Scouts Training
REFRESH-INTERVAL;VALUE=DURATION:PT1H
X-Robots-Tag:noindex
X-PUBLISHED-TTL:PT1H
BEGIN:VTIMEZONE
TZID:Europe/London
BEGIN:DAYLIGHT
TZOFFSETFROM:+0000
TZOFFSETTO:+0100
TZNAME:BST
DTSTART:20210328T010000
END:DAYLIGHT
BEGIN:STANDARD
TZOFFSETFROM:+0100
TZOFFSETTO:+0000
TZNAME:GMT
DTSTART:20211031T010000
END:STANDARD
BEGIN:DAYLIGHT
TZOFFSETFROM:+0000
TZOFFSETTO:+0100
TZNAME:BST
DTSTART:20220327T010000
END:DAYLIGHT
BEGIN:STANDARD
TZOFFSETFROM:+0100
TZOFFSETTO:+0000
TZNAME:GMT
DTSTART:20221030T010000
END:STANDARD
BEGIN:DAYLIGHT
TZOFFSETFROM:+0000
TZOFFSETTO:+0100
TZNAME:BST
DTSTART:20230326T010000
END:DAYLIGHT
BEGIN:STANDARD
TZOFFSETFROM:+0100
TZOFFSETTO:+0000
TZNAME:GMT
DTSTART:20231029T010000
END:STANDARD
END:VTIMEZONE
BEGIN:VEVENT
DTSTART;TZID=Europe/London:20220108T090000
DTEND;TZID=Europe/London:20220109T180000
DTSTAMP:20260421T104636
CREATED:20211108T170622Z
LAST-MODIFIED:20220106T174953Z
UID:224-1641632400-1641751200@swscout.training
SUMMARY:Skills of Management (2 days)
DESCRIPTION:This skills course aims to provide Managers and Supporters with the skills they need in order to carry out their role effectively and support others in doing the same. \n\n\n\nYou can find out more about the course objectives here.   \n\n\n\nBook here\n\n\n\n\n\n\n\n All meals will be provided as will overnight accommodation.  \n\n\n\nFull joining instructions will be sent out nearer the course start date.  \n\n\n\nMeals included Saturday lunch and evening meal\, Sunday breakfast and lunch.  \n\n\n\nThe fee for this course is £55\, your Scout County will be invoiced following the course; please inform your County Training Manager you will be attending.  \n\n\n\nRead more about costs and cancellation here \n\n\n\nFor more information contact ctm@gloucestershire-scouts.org.uk  \n\n\n\nInformation will be kept in accordance with GDPR.
URL:https://swscout.training/calendar/skills-of-management-2-days-7/
LOCATION:Cranham Scout Centre\, Cranham\, Gloucestershire\, GL4 8HP\, United Kingdom
CATEGORIES:Skills of Management (2 days)
END:VEVENT
BEGIN:VEVENT
DTSTART;TZID=Europe/London:20220124T190000
DTEND;TZID=Europe/London:20220124T210000
DTSTAMP:20260421T104636
CREATED:20220106T174452Z
LAST-MODIFIED:20220106T174453Z
UID:271-1643050800-1643058000@swscout.training
SUMMARY:Meeting The Challenges (3 x 2hr online sessions)
DESCRIPTION:This course will help you become an even better Manager in\nScouting. \n\n\n\nYou can find out more about the course objectives here. \n\n\n\nDue to Covid19 restrictions Devon Scouts have redesigned the face 2 face Meeting the challenges course to be run on an online platform.  \n\n\n\nThis course consists of three 2 hour online sessions. To ensure that all of the criteria is met there is a small amount of pre-course reading and between session work.  \n\n\n\nNone of these additional pieces of work will take any longer than 20 minutes to complete. All work completed can be added to your portfolio of evidence for validation. \n\n\n\nPlease register below as there are only 12 places per online course.  \n\n\n\nSessions will include whole group interaction\, small group work with facilitators and some individual reflection.  \n\n\n\nSession programmeProposed dateSession 1: Leadership & CommunicationMon 24th Jan 2022 – 7pm – 9pmSession 2: Safeguarding & ChallengesMon 31st Jan 2022 – 7pm – 9pm Session 3: Reviews\, Complaints & Action plans Mon 7th Feb 2022 – 7pm – 9pm \n\n\n\n\n\nTo find out more and book use this link \n\n\n\n\nBook here
URL:https://swscout.training/calendar/meeting-the-challenges-3-x-2hr-online-sessions/
LOCATION:Your home – This will be an online event.
CATEGORIES:Meeting the challenge
END:VEVENT
END:VCALENDAR