BEGIN:VCALENDAR
VERSION:2.0
PRODID:-//South West Region Scouts Training - ECPv6.15.17.1//NONSGML v1.0//EN
CALSCALE:GREGORIAN
METHOD:PUBLISH
X-WR-CALNAME:South West Region Scouts Training
X-ORIGINAL-URL:https://swscout.training
X-WR-CALDESC:Events for South West Region Scouts Training
REFRESH-INTERVAL;VALUE=DURATION:PT1H
X-Robots-Tag:noindex
X-PUBLISHED-TTL:PT1H
BEGIN:VTIMEZONE
TZID:Europe/London
BEGIN:DAYLIGHT
TZOFFSETFROM:+0000
TZOFFSETTO:+0100
TZNAME:BST
DTSTART:20200329T010000
END:DAYLIGHT
BEGIN:STANDARD
TZOFFSETFROM:+0100
TZOFFSETTO:+0000
TZNAME:GMT
DTSTART:20201025T010000
END:STANDARD
BEGIN:DAYLIGHT
TZOFFSETFROM:+0000
TZOFFSETTO:+0100
TZNAME:BST
DTSTART:20210328T010000
END:DAYLIGHT
BEGIN:STANDARD
TZOFFSETFROM:+0100
TZOFFSETTO:+0000
TZNAME:GMT
DTSTART:20211031T010000
END:STANDARD
BEGIN:DAYLIGHT
TZOFFSETFROM:+0000
TZOFFSETTO:+0100
TZNAME:BST
DTSTART:20220327T010000
END:DAYLIGHT
BEGIN:STANDARD
TZOFFSETFROM:+0100
TZOFFSETTO:+0000
TZNAME:GMT
DTSTART:20221030T010000
END:STANDARD
END:VTIMEZONE
BEGIN:VEVENT
DTSTART;TZID=Europe/London:20210306T090000
DTEND;TZID=Europe/London:20210307T170000
DTSTAMP:20260421T205952
CREATED:20210106T090050Z
LAST-MODIFIED:20210119T183820Z
UID:205-1615021200-1615136400@swscout.training
SUMMARY:Skills of Management (2 days)
DESCRIPTION:This skills course aims to provide Managers and Supporters with the skills they need in order to carry out their role effectively and support others in doing the same. \n\n\n\n \n\n\n\nTHIS EVENT WILL BE A BLENDED LEARNING EVENT INCLUDING ONLINE SESSIONS AND WORK AT HOME ACTIVITY. YOU SHOULD BE AVAILABLE FOR THE TIMES STATED. \n\n\n\nYou can find out more about the course objectives here. \n\n\n\nTo book please use this link
URL:https://swscout.training/calendar/skills-of-management-2-days-6/
LOCATION:Woodhouse Park Activity Centre\,\, Fernhill\, Almondsbury\, South Gloucestershire\, BS32 4LX\, United Kingdom
CATEGORIES:Skills of Management (2 days)
END:VEVENT
BEGIN:VEVENT
DTSTART;TZID=Europe/London:20210309T190000
DTEND;TZID=Europe/London:20210309T210000
DTSTAMP:20260421T205952
CREATED:20210215T213420Z
LAST-MODIFIED:20210215T213421Z
UID:219-1615316400-1615323600@swscout.training
SUMMARY:Meeting The Challenges (1 day)
DESCRIPTION:This course will help you become an even better Manager in Scouting.  \n\n\n\nDue to Covid19 restrictions Devon Scouts have redesigned the face 2 face Meeting the challenges course to be run on an online platform.  \n\n\n\nThis course consists of three 2 hour online sessions. To ensure that all of the criteria is met there is a small amount of pre-course reading and between session work. None of these additional pieces of work will take any longer than 20 minutes to complete. All work completed can be added to your portfolio of evidence for validation. \n\n\n\nPlease register below as there are only 18 places per online course.  \n\n\n\nSessions will include whole group interaction\, small group work with facilitators and some individual reflection.  \n\n\n\n Session programme.Proposed date.Session 1:  Communication & FeedbackTuesday 9th March 2021 @ 7:00pmSession 2: Safeguarding\, Complaints & DisputesTuesday 23rd March 2021 @ 7:00pmSession 3: Reviews\, Challenges & Action PlansTuesday 6th April 2021 @ 7:00pm\n\n\n\nCourse objectives \n\n\n\nIdentify causes of conflict and define appropriate strategies to resolve it.Understand The Scout Association’s dispute\, suspension and complaints procedures in an effective manner to real situations.Understand The Scout Association’s safeguarding procedures to real situations.Be able to carry out challenging reviews.Prioritise the different challenges faced in their role. Develop and identify steps to implement their personal action plan. \n\n\n\n The following Independent Learning Units are recommended as pre-course learning\, if they are relevant to your role: \n\n\n\nGetting the Word OutSafeguarding for Managers and SupportersDealing with Difficult SituationsDealing with Difficult SituationsEnabling ChangeFinancial and Physical ResourcesDecision Making\n\n\n\nThese sessions will be presented by Zoom so a stable internet connection will be needed.  \n\n\n\nCourse providers: Chris Solway\, Martyn Drew\, Emma Pacey & Luke Aris \n\n\n\nTo register your interest please use this link to go to the registration page:  \n\n\n\nclick here To book
URL:https://swscout.training/calendar/meeting-the-challenges-1-day-7/
LOCATION:Your home – This will be an online event.
CATEGORIES:Meeting the challenge
END:VEVENT
BEGIN:VEVENT
DTSTART;TZID=Europe/London:20210326T090000
DTEND;TZID=Europe/London:20210327T180000
DTSTAMP:20260421T205952
CREATED:20211108T175742Z
LAST-MODIFIED:20211110T102226Z
UID:238-1616749200-1616868000@swscout.training
SUMMARY:Skills of Management (2 days)
DESCRIPTION:This skills course aims to provide Managers and Supporters with the skills they need in order to carry out their role effectively and support others in doing the same. \n\n\n\n \n\n\n\nTHIS EVENT WILL BE A BLENDED LEARNING EVENT INCLUDING ONLINE SESSIONS AND WORK AT HOME ACTIVITY. YOU SHOULD BE AVAILABLE FOR THE TIMES STATED. \n\n\n\nYou can find out more about the course objectives here. \n\n\n\n\nBook here
URL:https://swscout.training/calendar/skills-of-management-2-days-8/
LOCATION:Woodhouse Park Activity Centre\,\, Fernhill\, Almondsbury\, South Gloucestershire\, BS32 4LX\, United Kingdom
CATEGORIES:Skills of Management (2 days)
END:VEVENT
END:VCALENDAR