BEGIN:VCALENDAR
VERSION:2.0
PRODID:-//South West Region Scouts Training - ECPv6.15.17.1//NONSGML v1.0//EN
CALSCALE:GREGORIAN
METHOD:PUBLISH
X-ORIGINAL-URL:https://swscout.training
X-WR-CALDESC:Events for South West Region Scouts Training
REFRESH-INTERVAL;VALUE=DURATION:PT1H
X-Robots-Tag:noindex
X-PUBLISHED-TTL:PT1H
BEGIN:VTIMEZONE
TZID:Europe/London
BEGIN:DAYLIGHT
TZOFFSETFROM:+0000
TZOFFSETTO:+0100
TZNAME:BST
DTSTART:20210328T010000
END:DAYLIGHT
BEGIN:STANDARD
TZOFFSETFROM:+0100
TZOFFSETTO:+0000
TZNAME:GMT
DTSTART:20211031T010000
END:STANDARD
BEGIN:DAYLIGHT
TZOFFSETFROM:+0000
TZOFFSETTO:+0100
TZNAME:BST
DTSTART:20220327T010000
END:DAYLIGHT
BEGIN:STANDARD
TZOFFSETFROM:+0100
TZOFFSETTO:+0000
TZNAME:GMT
DTSTART:20221030T010000
END:STANDARD
BEGIN:DAYLIGHT
TZOFFSETFROM:+0000
TZOFFSETTO:+0100
TZNAME:BST
DTSTART:20230326T010000
END:DAYLIGHT
BEGIN:STANDARD
TZOFFSETFROM:+0100
TZOFFSETTO:+0000
TZNAME:GMT
DTSTART:20231029T010000
END:STANDARD
END:VTIMEZONE
BEGIN:VEVENT
DTSTART;TZID=Europe/London:20220307T190000
DTEND;TZID=Europe/London:20220307T210000
DTSTAMP:20260421T151720
CREATED:20220106T174829Z
LAST-MODIFIED:20220106T174830Z
UID:273-1646679600-1646686800@swscout.training
SUMMARY:Skills of Management (4 x 2hr online sessions)
DESCRIPTION:This course will help you become an even better Manager in\nScouting. \n\n\n\nYou can find out more about the course objectives here. \n\n\n\nDue to Covid19 restrictions Devon Scouts have redesigned the face 2 face Meeting the challenges course to be run on an online platform.  \n\n\n\nThis skills course will be split into 4 online sessions each lasting approx. 2 hours. To ensure that all of the criteria is covered there will also be a small amount of pre-course reading and between session validation tasks.  \n\n\n\nEach piece of work will take no longer than 20 minutes to complete\, all of the extra work can be added to your portfolio of evidence for validation. \n\n\n\nPlease register below as there are only 12 places per online course.  \n\n\n\nSessions will include whole group interaction\, small group work with facilitators and some individual reflection.  \n\n\n\nSession programmeProposed dateSession 1: Leadership & CommunicationMon 7th Mar 2022 – 7pm – 9pmSession 2: Safeguarding & ChallengesMon 14th Mar 2022 – 7pm – 9pm Session 3: Reviews\, Complaints & Action plansMon 21st Mar 2022 – 7pm – 9pm Session 4: Team DevelopmentMon 28th Mar 2022 – 7pm-9pm\n\n\n\n\n\nTo find out more and book use this link \n\n\n\n\nBook here
URL:https://swscout.training/calendar/skills-of-management-4-x-2hr-online-sessions/
LOCATION:Your home – This will be an online event.
CATEGORIES:Meeting the challenge
END:VEVENT
END:VCALENDAR